BEGIN:VCALENDAR
VERSION:2.0
BEGIN:VEVENT
DTSTART;TZID=Europe/Stockholm:20260123T183000
DTEND;TZID=Europe/Stockholm:20260123T193000
DTSTAMP:20260424T104046
DESCRIPTION:
SEQUENCE:0
SUMMARY:Bönesamling i Centrumkyrkan.
UID:9573@lawebb.se
END:VEVENT
END:VCALENDAR