BEGIN:VCALENDAR
VERSION:2.0
BEGIN:VEVENT
DTSTART;TZID=Europe/Stockholm:20260122T183000
DTEND;TZID=Europe/Stockholm:20260122T193000
DTSTAMP:20260424T104251
DESCRIPTION:
SEQUENCE:0
SUMMARY:Bönesamling i Gislaveds kyrka.
UID:7694@lawebb.se
END:VEVENT
END:VCALENDAR