BEGIN:VCALENDAR
VERSION:2.0
BEGIN:VEVENT
DTSTART;TZID=Europe/Stockholm:20260120T143000
DTEND;TZID=Europe/Stockholm:20260120T153000
DTSTAMP:20260424T104231
DESCRIPTION:Eva & Ruben Albertsson, Vrigstad: &#34;En tro som bär även genom svårigheter – en livsberättelse i ord och ton.&#34; Servering.
SEQUENCE:0
SUMMARY:Dagledigträff i Centrumkykan.
UID:9832@lawebb.se
END:VEVENT
END:VCALENDAR