BEGIN:VCALENDAR
VERSION:2.0
BEGIN:VEVENT
DTSTART;TZID=Europe/Stockholm:20260119T183000
DTEND;TZID=Europe/Stockholm:20260119T193000
DTSTAMP:20260424T104122
DESCRIPTION:
SEQUENCE:0
SUMMARY:Bönesamling i Gislaveds kyrka.
UID:3446@lawebb.se
END:VEVENT
END:VCALENDAR