BEGIN:VCALENDAR
VERSION:2.0
BEGIN:VEVENT
DTSTART;TZID=Europe/Stockholm:20260118T000000
DTEND;TZID=Europe/Stockholm:20260118T240000
DTSTAMP:20260424T104137
DESCRIPTION:Tema: &#34;En enda kropp och en enda ande&#34; (Efesierbrevet 4:1–13).
SEQUENCE:0
SUMMARY:Ekumeniska böneveckan den 18–25/1.
UID:8643@lawebb.se
END:VEVENT
END:VCALENDAR