BEGIN:VCALENDAR
VERSION:2.0
BEGIN:VEVENT
DTSTART;TZID=Europe/Stockholm:20260118T110000
DTEND;TZID=Europe/Stockholm:20260118T120000
DTSTAMP:20260424T104127
DESCRIPTION:Tomas Themar: &#34;Vi kan bli svaret på Jesu bön om kristen enhet&#34;. Präst: Olof Ringdahl. Kollekt till Hela människan.
SEQUENCE:0
SUMMARY:Ekumenisk gudstjänst i Gislaveds kyrka.
UID:6943@lawebb.se
END:VEVENT
END:VCALENDAR