BEGIN:VCALENDAR
VERSION:2.0
BEGIN:VEVENT
DTSTART;TZID=Europe/Stockholm:20260116T164500
DTEND;TZID=Europe/Stockholm:20260116T174500
DTSTAMP:20260424T104007
DESCRIPTION:
SEQUENCE:0
SUMMARY:Konfirmationsundervisning.
UID:8893@lawebb.se
END:VEVENT
END:VCALENDAR