BEGIN:VCALENDAR
VERSION:2.0
BEGIN:VEVENT
DTSTART;TZID=Europe/Stockholm:20260115T180000
DTEND;TZID=Europe/Stockholm:20260115T190000
DTSTAMP:20260424T104212
DESCRIPTION:
SEQUENCE:0
SUMMARY:Scout.
UID:4546@lawebb.se
END:VEVENT
END:VCALENDAR