BEGIN:VCALENDAR
VERSION:2.0
BEGIN:VEVENT
DTSTART;TZID=Europe/Stockholm:20260113T190000
DTEND;TZID=Europe/Stockholm:20260113T200000
DTSTAMP:20260424T104100
DESCRIPTION:
SEQUENCE:0
SUMMARY:&#34;Söka och finna livsmod&#34;, Ämne: Bön.
UID:2656@lawebb.se
END:VEVENT
END:VCALENDAR