BEGIN:VCALENDAR
VERSION:2.0
BEGIN:VEVENT
DTSTART;TZID=Europe/Stockholm:20260106T100000
DTEND;TZID=Europe/Stockholm:20260106T110000
DTSTAMP:20260424T103905
DESCRIPTION:
SEQUENCE:0
SUMMARY:Öppen kyrka kl. 10–12.
UID:8662@lawebb.se
END:VEVENT
END:VCALENDAR