BEGIN:VCALENDAR
VERSION:2.0
BEGIN:VEVENT
DTSTART;TZID=Europe/Stockholm:20260105T180000
DTEND;TZID=Europe/Stockholm:20260105T190000
DTSTAMP:20260424T104046
DESCRIPTION:Trevlig samvaro för alla med Sofia o. Albin Willstrand, Smålandsstenar. Enkel förtäring, kostnad 75:- (max. 200/familj). Anmälan till Kjell 070-950 85 45 eller Martina 072-301 82 12
SEQUENCE:0
SUMMARY:På spåret.
UID:4592@lawebb.se
END:VEVENT
END:VCALENDAR