BEGIN:VCALENDAR
VERSION:2.0
BEGIN:VEVENT
DTSTART;TZID=Europe/Stockholm:20251231T160000
DTEND;TZID=Europe/Stockholm:20251231T170000
DTSTAMP:20260424T110911
DESCRIPTION:Maria Widermark predikar. Bön för det kommande året.
SEQUENCE:0
SUMMARY:Ekumenisk nyårsbön i Centrumkyrkan.
UID:7263@lawebb.se
END:VEVENT
END:VCALENDAR