BEGIN:VCALENDAR
VERSION:2.0
BEGIN:VEVENT
DTSTART;TZID=Europe/Stockholm:20251228T100000
DTEND;TZID=Europe/Stockholm:20251228T110000
DTSTAMP:20260424T110734
DESCRIPTION:Tomas Themar: &#34;Vi fortsätter söka Gislaveds bästa 2026&#34;. Servering. Julinsamlingen till kristna skolan i Abbottabad i Pakistan avslutas.
SEQUENCE:0
SUMMARY:Gudstjänst.
UID:3456@lawebb.se
END:VEVENT
END:VCALENDAR