BEGIN:VCALENDAR
VERSION:2.0
BEGIN:VEVENT
DTSTART;TZID=Europe/Stockholm:20251225T100000
DTEND;TZID=Europe/Stockholm:20251225T110000
DTSTAMP:20260424T110911
DESCRIPTION:Kjell Larsson. Julinsamlingen.
SEQUENCE:0
SUMMARY:&#34;Julotta för morgontrötta&#34;.
UID:3629@lawebb.se
END:VEVENT
END:VCALENDAR