BEGIN:VCALENDAR
VERSION:2.0
BEGIN:VEVENT
DTSTART;TZID=Europe/Stockholm:20251224T120000
DTEND;TZID=Europe/Stockholm:20251224T130000
DTSTAMP:20260424T110854
DESCRIPTION:Julmat och gemenskap. Anmälan.
SEQUENCE:0
SUMMARY:Julaftonsgemenskap.
UID:8827@lawebb.se
END:VEVENT
END:VCALENDAR