BEGIN:VCALENDAR
VERSION:2.0
BEGIN:VEVENT
DTSTART;TZID=Europe/Stockholm:20251224T110000
DTEND;TZID=Europe/Stockholm:20251224T120000
DTSTAMP:20260424T110725
DESCRIPTION:Kjell Larsson, Elisabeth Andersson m.fl.
SEQUENCE:0
SUMMARY:Samling vid julkrubban.
UID:2622@lawebb.se
END:VEVENT
END:VCALENDAR