BEGIN:VCALENDAR
VERSION:2.0
BEGIN:VEVENT
DTSTART;TZID=Europe/Stockholm:20251221T100000
DTEND;TZID=Europe/Stockholm:20251221T110000
DTSTAMP:20260424T110718
DESCRIPTION:Martina Curenstam. Servering. Julinsamling till skolan i Abbottabad i Pakistan.
SEQUENCE:0
SUMMARY:Gudstjänst fjärde söndagen i advent.
UID:6238@lawebb.se
END:VEVENT
END:VCALENDAR