BEGIN:VCALENDAR
VERSION:2.0
BEGIN:VEVENT
DTSTART;TZID=Europe/Stockholm:20251219T190000
DTEND;TZID=Europe/Stockholm:20251219T200000
DTSTAMP:20260424T110723
DESCRIPTION:
SEQUENCE:0
SUMMARY:Tonår.
UID:9587@lawebb.se
END:VEVENT
END:VCALENDAR