BEGIN:VCALENDAR
VERSION:2.0
BEGIN:VEVENT
DTSTART;TZID=Europe/Stockholm:20251218T180000
DTEND;TZID=Europe/Stockholm:20251218T190000
DTSTAMP:20260424T110649
DESCRIPTION:
SEQUENCE:0
SUMMARY:Scout.
UID:4225@lawebb.se
END:VEVENT
END:VCALENDAR