BEGIN:VCALENDAR
VERSION:2.0
BEGIN:VEVENT
DTSTART;TZID=Europe/Stockholm:20251217T141500
DTEND;TZID=Europe/Stockholm:20251217T151500
DTSTAMP:20260424T110821
DESCRIPTION:
SEQUENCE:0
SUMMARY:Andakt på Blomstervägen.
UID:8983@lawebb.se
END:VEVENT
END:VCALENDAR