BEGIN:VCALENDAR
VERSION:2.0
BEGIN:VEVENT
DTSTART;TZID=Europe/Stockholm:20251216T183000
DTEND;TZID=Europe/Stockholm:20251216T193000
DTSTAMP:20260424T110957
DESCRIPTION:Terminsavslutning.
SEQUENCE:0
SUMMARY:Ekumenisk bön i Centrumkyrkan.
UID:9596@lawebb.se
END:VEVENT
END:VCALENDAR