BEGIN:VCALENDAR
VERSION:2.0
BEGIN:VEVENT
DTSTART;TZID=Europe/Stockholm:20251214T100000
DTEND;TZID=Europe/Stockholm:20251214T110000
DTSTAMP:20260424T110733
DESCRIPTION:Kjell Larsson. Ann-Marie Axelsson berättar om Hela människan. Söndagskul. Servering. Julinsamling till skolan i Abbottabad i Pakistan.
SEQUENCE:0
SUMMARY:Gudstjänst tredje söndagen i advent.
UID:2886@lawebb.se
END:VEVENT
END:VCALENDAR