BEGIN:VCALENDAR
VERSION:2.0
BEGIN:VEVENT
DTSTART;TZID=Europe/Stockholm:20251213T190000
DTEND;TZID=Europe/Stockholm:20251213T200000
DTSTAMP:20260424T110855
DESCRIPTION:Scouterna m.fl. Servering. Dragning på årets scoutlotteri.
SEQUENCE:0
SUMMARY:Offentligt luciafirande.
UID:8826@lawebb.se
END:VEVENT
END:VCALENDAR