BEGIN:VCALENDAR
VERSION:2.0
BEGIN:VEVENT
DTSTART;TZID=Europe/Stockholm:20251212T164500
DTEND;TZID=Europe/Stockholm:20251212T174500
DTSTAMP:20260424T110734
DESCRIPTION:
SEQUENCE:0
SUMMARY:Konfirmationsläsning.
UID:9893@lawebb.se
END:VEVENT
END:VCALENDAR