BEGIN:VCALENDAR
VERSION:2.0
BEGIN:VEVENT
DTSTART;TZID=Europe/Stockholm:20251212T190000
DTEND;TZID=Europe/Stockholm:20251212T200000
DTSTAMP:20260424T110845
DESCRIPTION:
SEQUENCE:0
SUMMARY:Tonår.
UID:2238@lawebb.se
END:VEVENT
END:VCALENDAR