BEGIN:VCALENDAR
VERSION:2.0
BEGIN:VEVENT
DTSTART;TZID=Europe/Stockholm:20251210T143000
DTEND;TZID=Europe/Stockholm:20251210T153000
DTSTAMP:20260424T110719
DESCRIPTION:Diakonala rådet ansvarar.
SEQUENCE:0
SUMMARY:Julkaffe för de äldre.
UID:8724@lawebb.se
END:VEVENT
END:VCALENDAR