BEGIN:VCALENDAR
VERSION:2.0
BEGIN:VEVENT
DTSTART;TZID=Europe/Stockholm:20251209T190000
DTEND;TZID=Europe/Stockholm:20251209T200000
DTSTAMP:20260424T110928
DESCRIPTION:Ämne: Bön
SEQUENCE:0
SUMMARY:&#34;Söka och finna livsmod&#34;, del 2.
UID:9736@lawebb.se
END:VEVENT
END:VCALENDAR