BEGIN:VCALENDAR
VERSION:2.0
BEGIN:VEVENT
DTSTART;TZID=Europe/Stockholm:20251209T143000
DTEND;TZID=Europe/Stockholm:20251209T153000
DTSTAMP:20260424T110845
DESCRIPTION:Vi sjunger in julen tillsammans med hemlig gäst. Servering.
SEQUENCE:0
SUMMARY:Dagledigträff i Centrumkyrkan.
UID:3675@lawebb.se
END:VEVENT
END:VCALENDAR