BEGIN:VCALENDAR
VERSION:2.0
BEGIN:VEVENT
DTSTART;TZID=Europe/Stockholm:20251209T100000
DTEND;TZID=Europe/Stockholm:20251209T110000
DTSTAMP:20260424T110559
DESCRIPTION:
SEQUENCE:0
SUMMARY:Öppen kyrka kl. 10–12.
UID:2469@lawebb.se
END:VEVENT
END:VCALENDAR