BEGIN:VCALENDAR
VERSION:2.0
BEGIN:VEVENT
DTSTART;TZID=Europe/Stockholm:20251209T183000
DTEND;TZID=Europe/Stockholm:20251209T193000
DTSTAMP:20260424T110957
DESCRIPTION:
SEQUENCE:0
SUMMARY:Ekumenisk bön i Centrumkyrkan.
UID:9245@lawebb.se
END:VEVENT
END:VCALENDAR