BEGIN:VCALENDAR
VERSION:2.0
BEGIN:VEVENT
DTSTART;TZID=Europe/Stockholm:20251207T100000
DTEND;TZID=Europe/Stockholm:20251207T110000
DTSTAMP:20260424T110722
DESCRIPTION:Hanna Eklöf. Söndagskul. Nattvard. Servering. Julinsamling till skolan i Abbottabad i Pakistan.
SEQUENCE:0
SUMMARY:Gudstjänst andra söndagen i advent.
UID:4874@lawebb.se
END:VEVENT
END:VCALENDAR