BEGIN:VCALENDAR
VERSION:2.0
BEGIN:VEVENT
DTSTART;TZID=Europe/Stockholm:20251205T164500
DTEND;TZID=Europe/Stockholm:20251205T174500
DTSTAMP:20260424T110804
DESCRIPTION:
SEQUENCE:0
SUMMARY:Konfirmationsläsning.
UID:5252@lawebb.se
END:VEVENT
END:VCALENDAR