BEGIN:VCALENDAR
VERSION:2.0
BEGIN:VEVENT
DTSTART;TZID=Europe/Stockholm:20251204T180000
DTEND;TZID=Europe/Stockholm:20251204T190000
DTSTAMP:20260424T110611
DESCRIPTION:
SEQUENCE:0
SUMMARY:Scout.
UID:3235@lawebb.se
END:VEVENT
END:VCALENDAR