BEGIN:VCALENDAR
VERSION:2.0
BEGIN:VEVENT
DTSTART;TZID=Europe/Stockholm:20251202T183000
DTEND;TZID=Europe/Stockholm:20251202T193000
DTSTAMP:20260424T110928
DESCRIPTION:
SEQUENCE:0
SUMMARY:Ekumenisk bön i Centrumkyrkan.
UID:4996@lawebb.se
END:VEVENT
END:VCALENDAR