BEGIN:VCALENDAR
VERSION:2.0
BEGIN:VEVENT
DTSTART;TZID=Europe/Stockholm:20251130T100000
DTEND;TZID=Europe/Stockholm:20251130T110000
DTSTAMP:20260424T114334
DESCRIPTION:Kjell Larsson, Emmy Hellström, Adventskören och musiker. 
 Söndagskul. Servering. Julinsamling till skolan i Abbottabad i Pakistan.
SEQUENCE:0
SUMMARY:Gudstjänst första söndagen i advent.
UID:8827@lawebb.se
END:VEVENT
END:VCALENDAR