BEGIN:VCALENDAR
VERSION:2.0
BEGIN:VEVENT
DTSTART;TZID=Europe/Stockholm:20251129T180000
DTEND;TZID=Europe/Stockholm:20251129T190000
DTSTAMP:20260424T114351
DESCRIPTION:Julkonsert med lokala förmågor: Gospel Joy, Sönda&#39;, lokalt brassband m.fl. Servering. Julinsamlingen till skolan i Abbottabad i Pakistan börjar.
SEQUENCE:0
SUMMARY:Hörnkväll.
UID:7792@lawebb.se
END:VEVENT
END:VCALENDAR