BEGIN:VCALENDAR
VERSION:2.0
BEGIN:VEVENT
DTSTART;TZID=Europe/Stockholm:20251128T164500
DTEND;TZID=Europe/Stockholm:20251128T174500
DTSTAMP:20260424T114510
DESCRIPTION:
SEQUENCE:0
SUMMARY:Konfirmationsläsning.
UID:4372@lawebb.se
END:VEVENT
END:VCALENDAR