BEGIN:VCALENDAR
VERSION:2.0
BEGIN:VEVENT
DTSTART;TZID=Europe/Stockholm:20251127T180000
DTEND;TZID=Europe/Stockholm:20251127T190000
DTSTAMP:20260424T114313
DESCRIPTION:
SEQUENCE:0
SUMMARY:Scout.
UID:8936@lawebb.se
END:VEVENT
END:VCALENDAR