BEGIN:VCALENDAR
VERSION:2.0
BEGIN:VEVENT
DTSTART;TZID=Europe/Stockholm:20251126T141500
DTEND;TZID=Europe/Stockholm:20251126T151500
DTSTAMP:20260424T114313
DESCRIPTION:
SEQUENCE:0
SUMMARY:Andakt på Blomstervägen.
UID:8979@lawebb.se
END:VEVENT
END:VCALENDAR