BEGIN:VCALENDAR
VERSION:2.0
BEGIN:VEVENT
DTSTART;TZID=Europe/Stockholm:20251125T190000
DTEND;TZID=Europe/Stockholm:20251125T200000
DTSTAMP:20260424T114443
DESCRIPTION:Ämne: Maktlöshet
SEQUENCE:0
SUMMARY:&#34;Söka och finna livsmod&#34;, del 2.
UID:2892@lawebb.se
END:VEVENT
END:VCALENDAR