BEGIN:VCALENDAR
VERSION:2.0
BEGIN:VEVENT
DTSTART;TZID=Europe/Stockholm:20251125T143000
DTEND;TZID=Europe/Stockholm:20251125T153000
DTSTAMP:20260424T114330
DESCRIPTION:Födelsedagsfest för alla som fyllt 80, 90, 95 och uppåt. Vi hjälps åt att fira och att äta tårta tillsammans. BrittMarie Broman och sånggruppen spelar och sjunger.
SEQUENCE:0
SUMMARY:Dagledigträff i församlingshemmet.
UID:9935@lawebb.se
END:VEVENT
END:VCALENDAR