BEGIN:VCALENDAR
VERSION:2.0
BEGIN:VEVENT
DTSTART;TZID=Europe/Stockholm:20251125T100000
DTEND;TZID=Europe/Stockholm:20251125T110000
DTSTAMP:20260424T114217
DESCRIPTION:
SEQUENCE:0
SUMMARY:Öppen kyrka kl. 10–12.
UID:3522@lawebb.se
END:VEVENT
END:VCALENDAR