BEGIN:VCALENDAR
VERSION:2.0
BEGIN:VEVENT
DTSTART;TZID=Europe/Stockholm:20251123T100000
DTEND;TZID=Europe/Stockholm:20251123T110000
DTSTAMP:20260424T114402
DESCRIPTION:Tomas Themar: &#34;Vi kan påskynda Jesu återkomst&#34;. Söndagskul. Servering.
SEQUENCE:0
SUMMARY:Gudstjänst på domssöndagen.
UID:3463@lawebb.se
END:VEVENT
END:VCALENDAR