BEGIN:VCALENDAR
VERSION:2.0
BEGIN:VEVENT
DTSTART;TZID=Europe/Stockholm:20251116T100000
DTEND;TZID=Europe/Stockholm:20251116T110000
DTSTAMP:20260424T114403
DESCRIPTION:Maria Widermark m.fl. Söndagskul. Servering.
SEQUENCE:0
SUMMARY:Ekumenisk gudstjänst under Globala veckan.
UID:4678@lawebb.se
END:VEVENT
END:VCALENDAR