BEGIN:VCALENDAR
VERSION:2.0
BEGIN:VEVENT
DTSTART;TZID=Europe/Stockholm:20251114T164500
DTEND;TZID=Europe/Stockholm:20251114T174500
DTSTAMP:20260424T114420
DESCRIPTION:
SEQUENCE:0
SUMMARY:Konfirmationsläsning.
UID:2785@lawebb.se
END:VEVENT
END:VCALENDAR