BEGIN:VCALENDAR
VERSION:2.0
BEGIN:VEVENT
DTSTART;TZID=Europe/Stockholm:20251113T180000
DTEND;TZID=Europe/Stockholm:20251113T190000
DTSTAMP:20260424T114250
DESCRIPTION:
SEQUENCE:0
SUMMARY:Scout.
UID:8768@lawebb.se
END:VEVENT
END:VCALENDAR