BEGIN:VCALENDAR
VERSION:2.0
BEGIN:VEVENT
DTSTART;TZID=Europe/Stockholm:20251112T180000
DTEND;TZID=Europe/Stockholm:20251112T190000
DTSTAMP:20260424T114449
DESCRIPTION:Föreläsning i Gislaveds kyrka. Tema: &#34;Fred&#34;. Henrik Frykberg, Kristna Fredsrörelsen.
SEQUENCE:0
SUMMARY:Globala veckan 2025.
UID:3437@lawebb.se
END:VEVENT
END:VCALENDAR