BEGIN:VCALENDAR
VERSION:2.0
BEGIN:VEVENT
DTSTART;TZID=Europe/Stockholm:20251111T143000
DTEND;TZID=Europe/Stockholm:20251111T153000
DTSTAMP:20260424T114444
DESCRIPTION:&#34;De kom med de vita bussarna&#34;. Ulf Pettersson, Bankeryd, berättar om räddningsaktionen i slutet av andra världskriget. Servering.
SEQUENCE:0
SUMMARY:Dagledigträff i Centrumkyrkan.
UID:8824@lawebb.se
END:VEVENT
END:VCALENDAR