BEGIN:VCALENDAR
VERSION:2.0
BEGIN:VEVENT
DTSTART;TZID=Europe/Stockholm:20251109T100000
DTEND;TZID=Europe/Stockholm:20251109T110000
DTSTAMP:20260424T114450
DESCRIPTION:Hanna Eklöf. Pop up-barnkör. Söndagskul. Servering.
SEQUENCE:0
SUMMARY:Gudstjänst.
UID:6757@lawebb.se
END:VEVENT
END:VCALENDAR