BEGIN:VCALENDAR
VERSION:2.0
BEGIN:VEVENT
DTSTART;TZID=Europe/Stockholm:20251108T100000
DTEND;TZID=Europe/Stockholm:20251108T110000
DTSTAMP:20260424T114351
DESCRIPTION:Insamling kl. 10–12 till förmån för Ukraina.
SEQUENCE:0
SUMMARY:Insamling till Barnens Oas.
UID:3349@lawebb.se
END:VEVENT
END:VCALENDAR